BEGIN:VCALENDAR
VERSION:2.0
PRODID:-//PYVOBJECT//NONSGML Version 0.9.9//EN
X-WR-TIMEZONE:Africa/Johannesburg
BEGIN:VTIMEZONE
TZID:Africa/Johannesburg
BEGIN:STANDARD
DTSTART:20000101T000000
RRULE:FREQ=YEARLY;BYMONTH=1
TZNAME:SAST
TZOFFSETFROM:+0200
TZOFFSETTO:+0200
END:STANDARD
END:VTIMEZONE
BEGIN:VEVENT
UID:20260419T130715Z - 15230@eos-content
DTSTART;TZID=Africa/Johannesburg:20260424T140000
DTEND;TZID=Africa/Johannesburg:20260424T170000
ATTENDEE:MAILTO:tumi@lionleadrealestate.co.za
ATTENDEE:MAILTO:mike@lionleadrealestate.co.za
DESCRIPTION:https://www.lionleadrealestate.co.za/results/residential/for-sa
 le/johannesburg/rosebank/apartment/3144561/\n\nVIEWINGS ONLY BY APPOINTMEN
 T\, CONFIRMED WITH AGENT 24-HOURS PRIOR.\n\nTumi Seochwareng (0716385687)\
 n\nMichael Petropoulos (0792082175)
DTSTAMP:20260419T130715Z
LOCATION:Rosebank\, Johannesburg
SUMMARY:LIONLEAD Real Estate Show Day - RL3722
END:VEVENT
END:VCALENDAR
